BEGIN:VCALENDAR
VERSION:2.0
PRODID:-//Mountain View Christian Assembly - ECPv6.15.20//NONSGML v1.0//EN
CALSCALE:GREGORIAN
METHOD:PUBLISH
X-WR-CALNAME:Mountain View Christian Assembly
X-ORIGINAL-URL:https://mvcachurch.com
X-WR-CALDESC:Events for Mountain View Christian Assembly
REFRESH-INTERVAL;VALUE=DURATION:PT1H
X-Robots-Tag:noindex
X-PUBLISHED-TTL:PT1H
BEGIN:VTIMEZONE
TZID:America/Winnipeg
BEGIN:DAYLIGHT
TZOFFSETFROM:-0600
TZOFFSETTO:-0500
TZNAME:CDT
DTSTART:20250309T080000
END:DAYLIGHT
BEGIN:STANDARD
TZOFFSETFROM:-0500
TZOFFSETTO:-0600
TZNAME:CST
DTSTART:20251102T070000
END:STANDARD
BEGIN:DAYLIGHT
TZOFFSETFROM:-0600
TZOFFSETTO:-0500
TZNAME:CDT
DTSTART:20260308T080000
END:DAYLIGHT
BEGIN:STANDARD
TZOFFSETFROM:-0500
TZOFFSETTO:-0600
TZNAME:CST
DTSTART:20261101T070000
END:STANDARD
BEGIN:DAYLIGHT
TZOFFSETFROM:-0600
TZOFFSETTO:-0500
TZNAME:CDT
DTSTART:20270314T080000
END:DAYLIGHT
BEGIN:STANDARD
TZOFFSETFROM:-0500
TZOFFSETTO:-0600
TZNAME:CST
DTSTART:20271107T070000
END:STANDARD
END:VTIMEZONE
BEGIN:VEVENT
DTSTART;TZID=America/Winnipeg:20260315T130000
DTEND;TZID=America/Winnipeg:20260315T140000
DTSTAMP:20260421T104528
CREATED:20150917T004835Z
LAST-MODIFIED:20260217T014130Z
UID:447-1773579600-1773583200@mvcachurch.com
SUMMARY:Annual General Meeting
DESCRIPTION:We will have a fellowship lunch after church and the AGM will follow
URL:https://mvcachurch.com/event/agm/
LOCATION:Mountain View Christian Assembly Church\, 525 Whitmore Ave E\, Dauphin\, MB\, R7N 2N3\, Canada
CATEGORIES:Community
ATTACH;FMTTYPE=image/gif:https://mvcachurch.com/wp-content/uploads/2015/09/church-meetings.gif
END:VEVENT
BEGIN:VEVENT
DTSTART;TZID=America/Winnipeg:20260422T190000
DTEND;TZID=America/Winnipeg:20260429T210000
DTSTAMP:20260421T104528
CREATED:20260420T044349Z
LAST-MODIFIED:20260420T044349Z
UID:2094-1776884400-1777496400@mvcachurch.com
SUMMARY:Men's Fellowship
DESCRIPTION:April 22nd & 29th
URL:https://mvcachurch.com/event/mens-fellowship/
LOCATION:Mountain View Christian Assembly Church\, 525 Whitmore Ave E\, Dauphin\, MB\, R7N 2N3\, Canada
CATEGORIES:fellowship,ministry
ATTACH;FMTTYPE=image/jpeg:https://mvcachurch.com/wp-content/uploads/2026/01/mens-fellowship.jpg
END:VEVENT
BEGIN:VEVENT
DTSTART;TZID=America/Winnipeg:20260424T190000
DTEND;TZID=America/Winnipeg:20260424T210000
DTSTAMP:20260421T104528
CREATED:20260120T030403Z
LAST-MODIFIED:20260420T123738Z
UID:2090-1777057200-1777064400@mvcachurch.com
SUMMARY:Harp & Bowl - Worship and Prayer
DESCRIPTION:
URL:https://mvcachurch.com/event/harp-bowl-worship-and-prayer/
LOCATION:Mountain View Christian Assembly Church\, 525 Whitmore Ave E\, Dauphin\, MB\, R7N 2N3\, Canada
CATEGORIES:ministry,Music
ATTACH;FMTTYPE=image/jpeg:https://mvcachurch.com/wp-content/uploads/2026/01/Harp_Bowl.jpg
END:VEVENT
BEGIN:VEVENT
DTSTART;TZID=America/Winnipeg:20260429T133000
DTEND;TZID=America/Winnipeg:20260530T143000
DTSTAMP:20260421T104528
CREATED:20250719T183027Z
LAST-MODIFIED:20260420T044204Z
UID:1969-1777469400-1780151400@mvcachurch.com
SUMMARY:Prayer Meeting
DESCRIPTION:April 29th\nMay 13th
URL:https://mvcachurch.com/event/prayer-meeting/
LOCATION:Mountain View Christian Assembly Church\, 525 Whitmore Ave E\, Dauphin\, MB\, R7N 2N3\, Canada
CATEGORIES:fellowship,ministry
ATTACH;FMTTYPE=image/jpeg:https://mvcachurch.com/wp-content/uploads/2025/07/multicultural-group-gathers-table-joint-prayer-men-women-seeking-guidance-blessings-from-higher-power-faith-spirituality-vector-image_379823-6487.jpg
END:VEVENT
END:VCALENDAR