BEGIN:VCALENDAR
VERSION:2.0
PRODID:-//Mountain View Christian Assembly - ECPv6.15.20//NONSGML v1.0//EN
CALSCALE:GREGORIAN
METHOD:PUBLISH
X-ORIGINAL-URL:https://mvcachurch.com
X-WR-CALDESC:Events for Mountain View Christian Assembly
REFRESH-INTERVAL;VALUE=DURATION:PT1H
X-Robots-Tag:noindex
X-PUBLISHED-TTL:PT1H
BEGIN:VTIMEZONE
TZID:America/Winnipeg
BEGIN:DAYLIGHT
TZOFFSETFROM:-0600
TZOFFSETTO:-0500
TZNAME:CDT
DTSTART:20230312T080000
END:DAYLIGHT
BEGIN:STANDARD
TZOFFSETFROM:-0500
TZOFFSETTO:-0600
TZNAME:CST
DTSTART:20231105T070000
END:STANDARD
BEGIN:DAYLIGHT
TZOFFSETFROM:-0600
TZOFFSETTO:-0500
TZNAME:CDT
DTSTART:20240310T080000
END:DAYLIGHT
BEGIN:STANDARD
TZOFFSETFROM:-0500
TZOFFSETTO:-0600
TZNAME:CST
DTSTART:20241103T070000
END:STANDARD
BEGIN:DAYLIGHT
TZOFFSETFROM:-0600
TZOFFSETTO:-0500
TZNAME:CDT
DTSTART:20250309T080000
END:DAYLIGHT
BEGIN:STANDARD
TZOFFSETFROM:-0500
TZOFFSETTO:-0600
TZNAME:CST
DTSTART:20251102T070000
END:STANDARD
END:VTIMEZONE
BEGIN:VEVENT
DTSTART;TZID=America/Winnipeg:20240626T183000
DTEND;TZID=America/Winnipeg:20240626T193000
DTSTAMP:20260424T125227
CREATED:20240602T145901Z
LAST-MODIFIED:20240602T173018Z
UID:1834-1719426600-1719430200@mvcachurch.com
SUMMARY:Manitoba Prayer Gathering
DESCRIPTION:
URL:https://mvcachurch.com/event/manitoba-prayer-gathering/
LOCATION:Mountain View Christian Assembly Church\, 525 Whitmore Ave E\, Dauphin\, MB\, R7N 2N3\, Canada
CATEGORIES:ministry
ATTACH;FMTTYPE=image/jpeg:https://mvcachurch.com/wp-content/uploads/2024/06/manitoba-prayer-gathering-thumb.jpeg
END:VEVENT
END:VCALENDAR